BEGIN:VCALENDAR
VERSION:2.0
PRODID:-//PYVOBJECT//NONSGML Version 0.9.9//EN
X-WR-TIMEZONE:Africa/Johannesburg
BEGIN:VTIMEZONE
TZID:Africa/Johannesburg
BEGIN:STANDARD
DTSTART:20000101T000000
RRULE:FREQ=YEARLY;BYMONTH=1
TZNAME:SAST
TZOFFSETFROM:+0200
TZOFFSETTO:+0200
END:STANDARD
END:VTIMEZONE
BEGIN:VEVENT
UID:20260424T135709Z - 34589@eos-content
DTSTART;TZID=Africa/Johannesburg:20260426T160000
DTEND;TZID=Africa/Johannesburg:20260426T170000
ATTENDEE:MAILTO:cheryldene@basspropertygroup.co.za
DESCRIPTION:https://www.basspropertygroup.co.za/results/residential/for-sal
 e/east-london/nahoon-valley-park/freehold/3114370/\n\nPointers from circle
  at Abbotsford's Spar\n\nCheryldene Marais (0834555244)
DTSTAMP:20260424T135709Z
LOCATION:Nahoon Valley Park\, East London
SUMMARY:Bass Property Group Show Day - RL891
END:VEVENT
END:VCALENDAR
